BEGIN:VCALENDAR
VERSION:2.0
PRODID:-//GDR NoST - ECPv6.1.3//NONSGML v1.0//EN
CALSCALE:GREGORIAN
METHOD:PUBLISH
X-WR-CALNAME:GDR NoST
X-ORIGINAL-URL:http://www.nost.fr
X-WR-CALDESC:évènements pour GDR NoST
REFRESH-INTERVAL;VALUE=DURATION:PT1H
X-Robots-Tag:noindex
X-PUBLISHED-TTL:PT1H
BEGIN:VTIMEZONE
TZID:Europe/Paris
BEGIN:DAYLIGHT
TZOFFSETFROM:+0100
TZOFFSETTO:+0200
TZNAME:CEST
DTSTART:20160327T010000
END:DAYLIGHT
BEGIN:STANDARD
TZOFFSETFROM:+0200
TZOFFSETTO:+0100
TZNAME:CET
DTSTART:20161030T010000
END:STANDARD
END:VTIMEZONE
BEGIN:VEVENT
DTSTART;TZID=Europe/Paris:20161104T080000
DTEND;TZID=Europe/Paris:20161104T170000
DTSTAMP:20260421T001848
CREATED:20161024T142200Z
LAST-MODIFIED:20161024T142200Z
UID:729-1478246400-1478278800@www.nost.fr
SUMMARY:La Propriété Industrielle : un monde sans frontières ?
DESCRIPTION:« La Propriété Industrielle : un monde sans frontières ? »\nOu comment protéger ses marques\, ses brevets dans un contexte d’échanges internationaux. Des Conseils en Propriété Industrielle de la Région\, des représentants de l’Office Européen des Brevets et des industriels viendront animer cette journée et vous apporter des solutions concrètes.
URL:http://www.nost.fr/evenement/la-propriete-industrielle-un-monde-sans-frontieres/
LOCATION:Manufacture des Tabacs\, 21 Allée de Brienne  \, Toulouse\, 31000\, France
CATEGORIES:colloque
END:VEVENT
END:VCALENDAR