BEGIN:VCALENDAR
VERSION:2.0
PRODID:-//GDR NoST - ECPv6.1.3//NONSGML v1.0//EN
CALSCALE:GREGORIAN
METHOD:PUBLISH
X-ORIGINAL-URL:http://www.nost.fr
X-WR-CALDESC:évènements pour GDR NoST
REFRESH-INTERVAL;VALUE=DURATION:PT1H
X-Robots-Tag:noindex
X-PUBLISHED-TTL:PT1H
BEGIN:VTIMEZONE
TZID:Europe/Paris
BEGIN:DAYLIGHT
TZOFFSETFROM:+0100
TZOFFSETTO:+0200
TZNAME:CEST
DTSTART:20160327T010000
END:DAYLIGHT
BEGIN:STANDARD
TZOFFSETFROM:+0200
TZOFFSETTO:+0100
TZNAME:CET
DTSTART:20161030T010000
END:STANDARD
END:VTIMEZONE
BEGIN:VEVENT
DTSTART;VALUE=DATE:20161117
DTEND;VALUE=DATE:20161119
DTSTAMP:20260421T002052
CREATED:20161026T122944Z
LAST-MODIFIED:20161026T122944Z
UID:753-1479340800-1479513599@www.nost.fr
SUMMARY:La doctrine en droit de l'environnement
DESCRIPTION:A l’occasion des 40 ans de la Revue Juridique de l’Environnement\, le colloque annuel de la Société Française pour le Droit de l’Environnement porte sur la question de la doctrine en droit de l’environnement\, tant d’un point de vue international\, que national et comparé. Seront abordées l’existence même d’une doctrine (spécifique?) en droit de l’environnement\, les méthodes d’une telle doctrine et enfin ses fonctions et ses manifestations.
URL:http://www.nost.fr/evenement/la-doctrine-en-droit-de-lenvironnement/
LOCATION:Faculté de Droit et des Sciences Économiques (FDSE) de Limoges\, 32 rue Turgot\, Limoges\, France
CATEGORIES:colloque
END:VEVENT
BEGIN:VEVENT
DTSTART;TZID=Europe/Paris:20161118T084500
DTEND;TZID=Europe/Paris:20161118T170000
DTSTAMP:20260421T002052
CREATED:20161107T092742Z
LAST-MODIFIED:20161107T092752Z
UID:805-1479458700-1479488400@www.nost.fr
SUMMARY:L'entreprise et l'art
DESCRIPTION:Omniprésent dans la société\, l’art semble naturellement peu présent dans le monde de l’entreprise. Pourtant\, si les relations entre le monde de l’art et celui de l’entreprise semblent peu développées\, l’entreprise n’échappe pas non plus à l’art.\nEn dépit de leur caractère apparemment marginal\, les rapports entre l’art et l’entreprise touchent à des aspects essentiels de la façon dont l’art existe dans notre monde moderne. Les pouvoirs publics\, qu’ils soient nationaux ou européens\, encouragent le soutien au secteur artistique\, et les enjeux politiques\, culturels et économiques sont de taille. De telles politiques visent à encourager la création\, la diffusion des œuvres\, mais ce constat ne va pas sans questionnement sur le rôle des entreprises et des différents acteurs amenés à intervenir au sein du secteur artistique.\nL’entreprise peut appréhender l’art comme un marché sous l’angle de l’optimisation économique et fiscale\, notamment via le mécénat ou les fondations. Comment alors concilier les exigences liées au soutien du secteur artistique\, sa valorisation\, avec la logique marchande et les préoccupations des entreprises en termes de communication? Les logiques de ces deux mondes sont différentes.\nToutefois\, l’entreprise peut elle-même être créatrice d’art et réunir la double qualité d’entreprise et de créatrice. Cette activité spécifique engendre divers questionnements concernant les droits relatifs aux créations artistiques : qui en est titulaire ? Comment l’entreprise peut-elle valoriser des créations artistiques ? Comment protéger les créations artistiques de la convoitise des tiers ? \nObjectifs\nLe présent colloque vise à approfondir les problématiques liées aux relations entre l’art et l’entreprise dans une dimension française et européenne.\nCe colloque allie des universitaires spécialistes des questions techniques et juridiques à des professionnels et entrepreneurs confrontés à cette relation dans leur pratique. \nPartenariats\nCe colloque est organisé en partenariat avec l’Université Carlos III de Madrid et bénéficie notamment du soutien de l’Ambassade de France à Madrid. \nAdresse de contact : ifr@ut-capitole.fr
URL:http://www.nost.fr/evenement/lentreprise-et-lart/
LOCATION:Université Toulouse-I-Capitole\, 2 Rue du Doyen-Gabriel-Marty\, Toulouse\, 31042\, France
CATEGORIES:colloque
END:VEVENT
END:VCALENDAR