BEGIN:VCALENDAR
VERSION:2.0
PRODID:-//GDR NoST - ECPv6.1.3//NONSGML v1.0//EN
CALSCALE:GREGORIAN
METHOD:PUBLISH
X-ORIGINAL-URL:http://www.nost.fr
X-WR-CALDESC:évènements pour GDR NoST
REFRESH-INTERVAL;VALUE=DURATION:PT1H
X-Robots-Tag:noindex
X-PUBLISHED-TTL:PT1H
BEGIN:VTIMEZONE
TZID:Europe/Paris
BEGIN:DAYLIGHT
TZOFFSETFROM:+0100
TZOFFSETTO:+0200
TZNAME:CEST
DTSTART:20160327T010000
END:DAYLIGHT
BEGIN:STANDARD
TZOFFSETFROM:+0200
TZOFFSETTO:+0100
TZNAME:CET
DTSTART:20161030T010000
END:STANDARD
END:VTIMEZONE
BEGIN:VEVENT
DTSTART;TZID=Europe/Paris:20161209T090000
DTEND;TZID=Europe/Paris:20161209T163000
DTSTAMP:20260420T230552
CREATED:20161107T100017Z
LAST-MODIFIED:20161107T100133Z
UID:820-1481274000-1481301000@www.nost.fr
SUMMARY:Objets connectés – Quels enjeux de société ? Quelles problématiques scientifiques ?
DESCRIPTION:La journée d’études sur les objets connectés vise à proposer à la communauté scientifique mais aussi au grand public un état des lieux des débats et enjeux liés au développement des Objets connectés\, également désignés sous le terme Internet des Objets.\nLe déploiement de ces possibilités techniques dans le quotidien mais également dans le fonctionnement des organisations (marchandes et non marchandes) questionne les pratiques tout autant que les dimensions éthiques\, juridiques\, sociales. Pour aider à penser ces enjeux\, une approche interdisciplinaire est nécessaire et doit reposer sur les contributions d’experts de divers horizons : technique\, juridique\, sociétal.\nInscription gratuite par mail auprès de Pascale.Kuntz@univ-nantes.fr
URL:http://www.nost.fr/evenement/objets-connectes-quels-enjeux-de-societe-quelles-problematiques-scientifiques/
LOCATION:Maison des Sciences de l’Homme Ange-Guépin\, 5 allée Jacques Berque\, Nantes\, 44000\, France
CATEGORIES:journée d'étude
END:VEVENT
END:VCALENDAR