BEGIN:VCALENDAR
VERSION:2.0
PRODID:-//GDR NoST - ECPv6.1.3//NONSGML v1.0//EN
CALSCALE:GREGORIAN
METHOD:PUBLISH
X-ORIGINAL-URL:http://www.nost.fr
X-WR-CALDESC:évènements pour GDR NoST
REFRESH-INTERVAL;VALUE=DURATION:PT1H
X-Robots-Tag:noindex
X-PUBLISHED-TTL:PT1H
BEGIN:VTIMEZONE
TZID:Europe/Paris
BEGIN:DAYLIGHT
TZOFFSETFROM:+0100
TZOFFSETTO:+0200
TZNAME:CEST
DTSTART:20160327T010000
END:DAYLIGHT
BEGIN:STANDARD
TZOFFSETFROM:+0200
TZOFFSETTO:+0100
TZNAME:CET
DTSTART:20161030T010000
END:STANDARD
END:VTIMEZONE
BEGIN:VEVENT
DTSTART;VALUE=DATE:20161215
DTEND;VALUE=DATE:20161217
DTSTAMP:20260420T230554
CREATED:20161026T125126Z
LAST-MODIFIED:20161026T125126Z
UID:758-1481760000-1481932799@www.nost.fr
SUMMARY:Quelles régulations pour l'économie collaborative ?
DESCRIPTION:Des propriétaires de ressources inutilisées – une chambre\, un siège dans une voiture\, une bicyclette\, un espace de jardinage… – les ouvrent désormais à d’autres particuliers\, grâce à des plateformes ou des places de marché dématérialisées\, dans des conditions souvent meilleures que celles offertes par les secteurs traditionnels. L’innovation technologique vient ainsi au soutien d’aspirations sociétales nouvelles. Sans exclure l’idée de profit\, le mouvement traduit un report des consommateurs vers des solutions alternatives à la fois plus fonctionnelles et plus soucieuses de l’intérêt général. Et la machine\, le big data engendrent ici des structures d’intermédiation d’un genre inédit qui amplifient à l’infini les biens et les services offerts. Tels sont les contours encore flous de « l’économie collaborative » qui\, dit-on parfois\, permet au capitalisme\, à bout de souffle\, de se renouveler…\nEn même temps\, le phénomène vient télescoper les cadres juridiques traditionnels de l’activité économique. Contrat\, propriété\, entreprise\, marché : les piliers du droit sont ébranlés et confrontés à l’apparition de nouvelles dépendances.\nAutrement dit\, l’économie collaborative est aujourd’hui l’un des défis du droit économique. Ces rencontres ont précisément pour but de tenter de comprendre ces nouvelles réalités et de réfléchir à leurs régulations. \nConsulter le programme.
URL:http://www.nost.fr/evenement/quelles-regulations-pour-leconomie-collaborative/
LOCATION:Faculté de Droit et Science politique de l’université Nice Sophia Antipolis\, Avenue Doyen Louis Trotabas\, Nice\, 06050\, France
CATEGORIES:rencontres
END:VEVENT
BEGIN:VEVENT
DTSTART;TZID=Europe/Paris:20161216T090000
DTEND;TZID=Europe/Paris:20161216T170000
DTSTAMP:20260420T230554
CREATED:20161024T141339Z
LAST-MODIFIED:20161024T141339Z
UID:726-1481878800-1481907600@www.nost.fr
SUMMARY:Génétique humaine : information à la parentèle et questions posées par les nouvelles technologies de séquençage
DESCRIPTION:La génétique porte en elle une dimension individuelle et familiale. Cette double dimension peut être à l’origine d’enjeux contradictoires dans les droits et les devoirs des acteurs impliqués. \n Afin de contribuer à la réflexion sur ce sujet nous organisons une journée d’étude pluridisciplinaire sous la forme de tables rondes à partir des résultats et des perspectives de deux projets de recherche menés de fin 2013 à aujourd’hui : un projet de recherche pluridisciplinaire financé par le Canceropôle ile de France\, l’INCA et l’ABM sur l’information de la parentèle en génétique humaine (projet 1) et un projet actuellement financé par la Fondation de l’avenir sur les enjeux bioéthiques des nouvelles technologies de séquençage en oncogénétique (projet 2). \nLa matinée présentera le projet 1 et ses résultats sur l’information à la parentèle en génétique humaine au travers des trois axes du projet (juridique\, sociologique et éthique appliquée) en abordant plus particulièrement la question des critères\, des responsabilités en jeu et de la mise en œuvre. \n L’après midi nous interrogerons les changements de pratique liés à l’arrivée des nouvelles technologies de séquençage en analysant le cas particulier de l’oncogénétique : Quelles modifications dans la pratique quotidienne des professionnels ? Quelles conséquences pour les personnes concernées par ces tests génétiques et leur famille ? Quelle gouvernance pour les droits des personnes face à l’émergence de ces nouvelles technologies ? Quelle place pour l’encadrement juridique et les recommandations institutionnelles ?
URL:http://www.nost.fr/evenement/genetique-humaine-information-a-la-parentele-et-questions-posees-par-les-nouvelles-technologies-de-sequencage/
LOCATION:Institut Curie\, 11\, rue Pierre et Marie Curie\, Paris\, 75005\, France
CATEGORIES:journée d'étude
END:VEVENT
END:VCALENDAR