BEGIN:VCALENDAR
VERSION:2.0
PRODID:-//GDR NoST - ECPv6.1.3//NONSGML v1.0//EN
CALSCALE:GREGORIAN
METHOD:PUBLISH
X-ORIGINAL-URL:http://www.nost.fr
X-WR-CALDESC:évènements pour GDR NoST
REFRESH-INTERVAL;VALUE=DURATION:PT1H
X-Robots-Tag:noindex
X-PUBLISHED-TTL:PT1H
BEGIN:VTIMEZONE
TZID:Europe/Paris
BEGIN:DAYLIGHT
TZOFFSETFROM:+0100
TZOFFSETTO:+0200
TZNAME:CEST
DTSTART:20170326T010000
END:DAYLIGHT
BEGIN:STANDARD
TZOFFSETFROM:+0200
TZOFFSETTO:+0100
TZNAME:CET
DTSTART:20171029T010000
END:STANDARD
END:VTIMEZONE
BEGIN:VEVENT
DTSTART;TZID=Europe/Paris:20170127T090000
DTEND;TZID=Europe/Paris:20170127T180000
DTSTAMP:20260420T214907
CREATED:20161222T142010Z
LAST-MODIFIED:20161222T142010Z
UID:932-1485507600-1485540000@www.nost.fr
SUMMARY:Colloque inaugural de la Maison des sciences de l'homme Paris-Saclay
DESCRIPTION:Ce colloque a pour objectif de réunir la communauté des Sciences Humaines et Sociales du périmètre Paris-Saclay. \nIl sera marqué par trois temps forts : \n(1) la présentation de la stratégie SHS/MSH sur le site de l’Université Paris-Saclay par Gilles BLOCH (Président de l’Université Paris-Saclay)\, Patrice BOURDELAIS (Directeur de l’INSHS- CNRS)\, et Bertrand JOUVE (Président du Réseau National des MSH) ; \n(2) la participation des chercheurs et enseignants-chercheurs aux ateliers parallèles de discussion des axes de la MSH Paris-Saclay\, suivie d’une restitution; \n(3) une table ronde de Grands Témoins sur l’interdisciplinarité. \nCe colloque inaugural permettra de poser les bases d’un nouveau concept de MSH\, une maison ouverte au dialogue des SHS avec les autres sciences au cœur du site de recherche exceptionnel qu’est celui de l’Université Paris-Saclay.
URL:http://www.nost.fr/evenement/colloque-inaugural-de-la-maison-des-sciences-de-lhomme-paris-saclay/
LOCATION:Domaine de Saint-Paul\, 102 Route de Limours \, Saint-Rémy-lès-Chevreuse\, 78470
CATEGORIES:colloque
END:VEVENT
BEGIN:VEVENT
DTSTART;TZID=Europe/Paris:20170127T093000
DTEND;TZID=Europe/Paris:20170127T170000
DTSTAMP:20260420T214907
CREATED:20161202T104557Z
LAST-MODIFIED:20161202T104557Z
UID:880-1485509400-1485536400@www.nost.fr
SUMMARY:Autour du livre « L’analyse juridique de (x). Le droit parmi les sciences sociales »
DESCRIPTION:Autour du livre : L’analyse juridique de (x). Le droit parmi les sciences sociales\nPrésentation de l’ouvrage \nProgramme \n9h30 – Accueil\nStéphanie Hennette-Vauchez\, Professeure à l’Université Paris Ouest-Nanterre La Défense\, CTAD (UMR 7074) \n10h00-12h00 – Première table-ronde\nSous la présidence de Jacques Commaille\, Professeur émérite des Universités à l’Ecole\nNormale Supérieure de Cachan\, ISP (UMR 7220) \nAvec Martine Kaluszynski\, Directrice de recherche au CNRS\, Pacte (UMR 5194) \nRainer Maria Kiesow\, Directeur d’études à l’Ecole des Hautes Etudes en Sciences Sociales\,\nCentre Georg Simmel (UMR 8131) \nArnaud Le Pillouer\, Professeur à l’Université Paris Ouest-Nanterre La Défense\, CTAD (UMR 7074) \n14h00-16h00 – Deuxième table-ronde\nSous la présidence de Jacques Chevallier\, Professeur émérite à l’Université Panthéon-Assas (Paris 2 )\, CERSA (UMR 7106) \nAvec Eric Millard\, Professeur à l’Université Paris Ouest-Nanterre La Défense\, CTAD (UMR 7074) \nThierry Kirat\, Directeur de recherche au CNRS\, IRISSO (UMR 7170) \nJean-Louis Halpérin\, Professeur à l’École Normale Supérieure\, CTAD (UMR 7074) \n\nRenseignements et inscriptions :\n04 77 42 19 38\nemilie.poinas@univ-st-etienne.fr \nLieu :\nUniversité Paris Nanterre\, Bâtiment F\, Salle des commissions (F 142)
URL:http://www.nost.fr/evenement/autour-du-livre-lanalyse-juridique-de-x-le-droit-parmi-les-sciences-sociales/
LOCATION:Université Paris Nanterre\, 200\, avenue de la République\, Nanterre
CATEGORIES:conférence
END:VEVENT
END:VCALENDAR