BEGIN:VCALENDAR
VERSION:2.0
PRODID:-//GDR NoST - ECPv6.1.3//NONSGML v1.0//EN
CALSCALE:GREGORIAN
METHOD:PUBLISH
X-WR-CALNAME:GDR NoST
X-ORIGINAL-URL:http://www.nost.fr
X-WR-CALDESC:évènements pour GDR NoST
REFRESH-INTERVAL;VALUE=DURATION:PT1H
X-Robots-Tag:noindex
X-PUBLISHED-TTL:PT1H
BEGIN:VTIMEZONE
TZID:Europe/Paris
BEGIN:DAYLIGHT
TZOFFSETFROM:+0100
TZOFFSETTO:+0200
TZNAME:CEST
DTSTART:20170326T010000
END:DAYLIGHT
BEGIN:STANDARD
TZOFFSETFROM:+0200
TZOFFSETTO:+0100
TZNAME:CET
DTSTART:20171029T010000
END:STANDARD
END:VTIMEZONE
BEGIN:VEVENT
DTSTART;VALUE=DATE:20170301
DTEND;VALUE=DATE:20170302
DTSTAMP:20260420T185940
CREATED:20161107T101355Z
LAST-MODIFIED:20161107T101355Z
UID:823-1488326400-1488412799@www.nost.fr
SUMMARY:Colloque sur les enjeux épistémologiques\, sociaux\, éthiques du croisement des savoirs
DESCRIPTION:Les questions de la place de la science et des scientifiques dans la société\, de la contribution du grand public à la réalisation de travaux de recherche sont de plus en plus débattues. \nAujourd’hui des chercheurs de différentes disciplines et des acteurs associatifs lancent un Appel. Il est issu des travaux d’un séminaire épistémologique qui a eu lieu en mai et novembre 2015 et mars 2016 : « Séminaire sur l’épistémologie des démarches participatives et en croisement des savoirs avec des personnes en situation de pauvreté ». \nCet Appel a pour enjeu de développer des pratiques de recherche participative\, c’est-à-dire de co-construction de nouveaux savoirs. \nLe champ d’application de telles recherches peut concerner aussi bien l’environnement\, la santé\, l’éducation\, le droit\, etc. \nNous vous invitons à prendre connaissance de cet Appel. Les équipes de recherche et partenaires impliqués dans cette initiative seront heureux de recevoir vos commentaires\, questions\, réactions\, ce qui fournira une base de réflexion très utile pour la préparation d’ un colloque co-organisé avec le CNRS qui se tiendra au CNRS à Paris le 1er mars 2017 autour des enjeux épistémologiques\, sociaux\, éthiques du croisement des savoirs avec des personnes de milieux sociaux très variés\, en particulier avec des personnes vivant des situation de précarité et de pauvreté. A cette occasion sera amorcé l’espace collaboratif instituant présenté dans l’Appel. \nNous espérons que cette démarche et cette proposition d’inclure différents acteurs dans la production de connaissances rencontreront vos propres préoccupations et que vous contribuerez à diffuser cet appel dans vos réseaux. \nPour le comité de pilotage du colloque \nClaude Ferrand\, Réseau Wresinski Participation\, Croisement des savoirs ATD\, Quart Monde \nMarcel Jaeger\, CNAM \nTalon réponse à renvoyer à : croisonslessavoirs@recherche-action.fr\n– nom\, prénom ………………………………. mèl………………………………………\n– discipline\, appartenance…………………………………………………………\n– je suis intéressé(e) par le colloque et souhaite être tenu au courant\n– j’ai des remarques et des suggestions : ……………………
URL:http://www.nost.fr/evenement/colloque-sur-les-enjeux-epistemologiques-sociaux-ethiques-du-croisement-des-savoirs/
LOCATION:Campus Gérard-Mégie du CNRS\, 3 rue Michel-Ange\, Paris\, 75016\, France
CATEGORIES:colloque
END:VEVENT
END:VCALENDAR