BEGIN:VCALENDAR
VERSION:2.0
PRODID:-//GDR NoST - ECPv6.1.3//NONSGML v1.0//EN
CALSCALE:GREGORIAN
METHOD:PUBLISH
X-ORIGINAL-URL:http://www.nost.fr
X-WR-CALDESC:évènements pour GDR NoST
REFRESH-INTERVAL;VALUE=DURATION:PT1H
X-Robots-Tag:noindex
X-PUBLISHED-TTL:PT1H
BEGIN:VTIMEZONE
TZID:Europe/Paris
BEGIN:DAYLIGHT
TZOFFSETFROM:+0100
TZOFFSETTO:+0200
TZNAME:CEST
DTSTART:20170326T010000
END:DAYLIGHT
BEGIN:STANDARD
TZOFFSETFROM:+0200
TZOFFSETTO:+0100
TZNAME:CET
DTSTART:20171029T010000
END:STANDARD
END:VTIMEZONE
BEGIN:VEVENT
DTSTART;TZID=Europe/Paris:20170303T133000
DTEND;TZID=Europe/Paris:20170303T180000
DTSTAMP:20260420T190128
CREATED:20170214T160304Z
LAST-MODIFIED:20170214T160304Z
UID:970-1488547800-1488564000@www.nost.fr
SUMMARY:La médiation : au confluent du droit et de la psychologie. 3ème Colloque de la Société Française de Psychologie Juridique
DESCRIPTION:En collaboration avec le CERDI (Universités Paris I – Paris-Sud)\,  l’Association Nationale des Médiateurs (ANM)\,  l’Institut de Médiation Guillaume-Hofnung (IMGH)\, l’Association des Médiateurs diplômés de Paris II-Panthéon Assas (MDPA)\, l’Institut de Formation à la médiation et à la négociation de l’Institut Catholique de Paris (IFOMENE). \nEt avec le soutien du CERDI\, de l’ANM et du CLIPSYD (Clinique Psychanalyse et Développement). \nPlusieurs questions peuvent se poser s’agissant de la médiation : quelle place pour la psychologie et les psychologues dans la médiation ? Pour les juristes dans la médiation ? Pour la médiation dans le champ juridique ? Quelles méthodes\, règles et ressources peuvent être disponibles pour les médiateurs ? Quels peuvent être les effets de la médiation sur la conception du droit et de la justice ? Sur la représentation qu’en ont les citoyens ? En quoi peut consister l’apport des sciences humaines dans la compréhension et la pratique de la médiation ? Quels enseignements et apports concrets peuvent être tirés de la pratique de la médiation et de l’expérience des médiateurs ? \nCe 3ème colloque de la Société Française de Psychologie Juridique\, en réunissant des psychologues\, des juristes et des médiateurs\, ainsi que des spécialistes des sciences humaines\, entend proposer une réflexion sur l’ensemble de ces questions et bien d’autres. \nColloque validé par l’Ordre des Avocats de Paris au titre de la formation continue des Avocats. \nConsulter le programme \nLieu : Université Paris-Sud\, Faculté de droit\, Salle Vedel\nEntrée libre. Inscription obligatoire : psycho.droit@gmail.com – Informations complémentaires : www.psycho-droit.com
URL:http://www.nost.fr/evenement/la-mediation-au-confluent-du-droit-et-de-la-psychologie-3eme-colloque-de-la-societe-francaise-de-psychologie-juridique/
LOCATION:Université Paris-Sud – Faculté Jean Monnet\, 54 boulevard Desgranges\, Sceaux\, 92330\, France
CATEGORIES:colloque
END:VEVENT
END:VCALENDAR