BEGIN:VCALENDAR
VERSION:2.0
PRODID:-//GDR NoST - ECPv6.1.3//NONSGML v1.0//EN
CALSCALE:GREGORIAN
METHOD:PUBLISH
X-WR-CALNAME:GDR NoST
X-ORIGINAL-URL:http://www.nost.fr
X-WR-CALDESC:évènements pour GDR NoST
REFRESH-INTERVAL;VALUE=DURATION:PT1H
X-Robots-Tag:noindex
X-PUBLISHED-TTL:PT1H
BEGIN:VTIMEZONE
TZID:Europe/Paris
BEGIN:DAYLIGHT
TZOFFSETFROM:+0100
TZOFFSETTO:+0200
TZNAME:CEST
DTSTART:20170326T010000
END:DAYLIGHT
BEGIN:STANDARD
TZOFFSETFROM:+0200
TZOFFSETTO:+0100
TZNAME:CET
DTSTART:20171029T010000
END:STANDARD
END:VTIMEZONE
BEGIN:VEVENT
DTSTART;TZID=Europe/Paris:20170306T180000
DTEND;TZID=Europe/Paris:20170306T200000
DTSTAMP:20260420T185941
CREATED:20170302T113733Z
LAST-MODIFIED:20170302T113733Z
UID:1003-1488823200-1488830400@www.nost.fr
SUMMARY:Fonction du droit (séminaire "L'arsenal du juriste")
DESCRIPTION:La prochaine séance du séminaire L’arsenal du juriste sera consacré au thème de la fonction du droit\, autour du livre et en présence de Jacques Commaille\, À quoi nous sert le droit ?\, Paris\, Gallimard\, 2015.\n\nPrésentation du séminaire L’arsenal du juriste\n\n\n\n\nFlorence Bellivier\, professeur à l’Université Paris-Ouest Nanterre-La-Défense (TH) ( Hors EHESS )\nRainer Maria Kiesow\, directeur d’études de l’EHESS (TH) ( Centre Georg-Simmel )\n\n\n\nLundi de 18 h à 20 h (105 bd Raspail 75006 Paris ou Université de Paris-Ouest-Nanterre))\, cf. calendrier des séances ci-dessous \n\n\nBien que\, par le droit\, des hommes soient encore mis à mort\, le droit est la guerre civilisée. Ce sont les armes des juristes qui sont l’objet de ce séminaire dans lequel on visitera les lieux de planification\, construction\, fabrication\, réparation\, préservation du droit\, ces dépôts de l’expérience juridique\, qui forment l’arsenal du juriste. S’y trouvent des lois\, des doctrines\, des livres\, des articles\, des films\, des histoires\, des architectures\, des arts et métiers. On présentera\, discutera\, critiquera ces armes dans le but de faire comprendre ce qu’est un juriste ou ce qu’il devrait être – normativité oblige. L’arsenal sera mis en scène à l’EHESS et à l’Université de Nanterre. \n\nMercredi 14 décembre 2016\, de 18 h à 20 h (EHESS\, 105 bd Raspail\, 75006 Paris\, amphithéâtre François-Furet)\n​Lundi 9 janvier 2017\, de 18 h à 20 h (Université de Paris Ouest  Nanterre\, bâtiment F\, salle F 352)\nLundi 6 mars 2017\, de 18 h à 20 h (EHESS\, 105 bd Raspail\, 75006 Paris\, amphithéâtre François-Furet)\nLundi 15 mai 2017\, de 18 h à 20 h (Université de Paris Ouest  Nanterre\, bâtiment F\, salle F 352)\nLundi 12 juin 2017\, de 18 h à 20 h (EHESS\, 105 bd Raspail\, 75006 Paris\, amphithéâtre François-Furet)\n\nProgramme :  \nMercredi 14 décembre 2016\, 18h-20h : Qui a peur du terroriste ? \n\nAutour du livre et en présence d’Antoine Garapon et Michel Rosenfeld\, Démocraties sous stress. Les défis du terrorisme global\, Paris\, PUF\, 2016\n\nDiscutants : \n\nRaphaële Parizot (Université Paris Nanterre)\nJulie Saada (Science Po Paris)\n\nLundi 9 janvier 2017\, 18h-20h  : Avant le Far West \n\nAutour du livre et en présence de Gilles Havard\, Histoire des coureurs de bois. Amérique du Nord\, 1600-1840\, Paris\, Les Indes Savantes\, 2016\n\nDiscutants : \n\nEmmanuel Désveaux (EHESS)\nRémy Libchaber (Paris I Panthéon Sorbonne)\n\nLundi 6 mars 2017\, 18h-20h  : Fonction du droit \n\nAutour du livre et en présence de Jacques Commaille\, À quoi nous sert le droit ?\, Paris\, Gallimard\, 2015
URL:http://www.nost.fr/evenement/fonction-du-droit-seminaire-larsenal-du-juriste/
LOCATION:EHESS\, 105 boulevard Raspail\, Paris\, 75006
END:VEVENT
END:VCALENDAR