BEGIN:VCALENDAR
VERSION:2.0
PRODID:-//GDR NoST - ECPv6.1.3//NONSGML v1.0//EN
CALSCALE:GREGORIAN
METHOD:PUBLISH
X-ORIGINAL-URL:http://www.nost.fr
X-WR-CALDESC:évènements pour GDR NoST
REFRESH-INTERVAL;VALUE=DURATION:PT1H
X-Robots-Tag:noindex
X-PUBLISHED-TTL:PT1H
BEGIN:VTIMEZONE
TZID:Europe/Paris
BEGIN:DAYLIGHT
TZOFFSETFROM:+0100
TZOFFSETTO:+0200
TZNAME:CEST
DTSTART:20170326T010000
END:DAYLIGHT
BEGIN:STANDARD
TZOFFSETFROM:+0200
TZOFFSETTO:+0100
TZNAME:CET
DTSTART:20171029T010000
END:STANDARD
END:VTIMEZONE
BEGIN:VEVENT
DTSTART;VALUE=DATE:20170314
DTEND;VALUE=DATE:20170315
DTSTAMP:20260420T190129
CREATED:20170220T111827Z
LAST-MODIFIED:20170220T111827Z
UID:984-1489449600-1489535999@www.nost.fr
SUMMARY:Santé et restes à charge
DESCRIPTION:La prochaine manifestation de l’AFDS se tiendra à Paris le 14 mars 2017 et portera sur « Santé et restes à charge ». Le programme est disponible.
URL:http://www.nost.fr/evenement/sante-et-restes-a-charge/
LOCATION:Université Paris Descartes\, 12 rue de l’Ecole de Médecine\, Paris\, 75006\, France
CATEGORIES:colloque
END:VEVENT
END:VCALENDAR