BEGIN:VCALENDAR
VERSION:2.0
PRODID:-//GDR NoST - ECPv6.1.3//NONSGML v1.0//EN
CALSCALE:GREGORIAN
METHOD:PUBLISH
X-ORIGINAL-URL:http://www.nost.fr
X-WR-CALDESC:évènements pour GDR NoST
REFRESH-INTERVAL;VALUE=DURATION:PT1H
X-Robots-Tag:noindex
X-PUBLISHED-TTL:PT1H
BEGIN:VTIMEZONE
TZID:Europe/Paris
BEGIN:DAYLIGHT
TZOFFSETFROM:+0100
TZOFFSETTO:+0200
TZNAME:CEST
DTSTART:20170326T010000
END:DAYLIGHT
BEGIN:STANDARD
TZOFFSETFROM:+0200
TZOFFSETTO:+0100
TZNAME:CET
DTSTART:20171029T010000
END:STANDARD
END:VTIMEZONE
BEGIN:VEVENT
DTSTART;TZID=Europe/Paris:20170329T090000
DTEND;TZID=Europe/Paris:20170329T170000
DTSTAMP:20260420T174110
CREATED:20170131T135448Z
LAST-MODIFIED:20170131T135448Z
UID:959-1490778000-1490806800@www.nost.fr
SUMMARY:Des logiciels à tout faire ? Les algorithmes d'aide à la décision en matières médicale et judiciaire
DESCRIPTION:Le programme DataSanté organise\, sous la responsabilité scientifique de Sonia Desmoulin-Canselier et Véronique Rachet-Darfeuille\, un colloque sur les algorithmes d’aide à la décision médicale ou judiciaire.\n« Des logiciels à tout faire? Les algorithmes d’aide à la décision en matières médicale et judiciaire »\n29 mars 2017\, 09h00-17h00\, Nantes\, Maison de l’avocat\nAffiche et Programme\nInscription : karine.lejeune@univ-nantes.fr\nRenseignements complémentaires : https://bigdatamed.hypotheses.org/
URL:http://www.nost.fr/evenement/des-logiciels-a-tout-faire-les-algorithmes-daide-a-la-decision-en-matieres-medicale-et-judiciaire/
LOCATION:Maison de l’avocat\, 25 Rue La Noue Bras de Fer\, Nantes\, 44000\, France
CATEGORIES:colloque
END:VEVENT
END:VCALENDAR