BEGIN:VCALENDAR
VERSION:2.0
PRODID:-//GDR NoST - ECPv6.1.3//NONSGML v1.0//EN
CALSCALE:GREGORIAN
METHOD:PUBLISH
X-ORIGINAL-URL:http://www.nost.fr
X-WR-CALDESC:évènements pour GDR NoST
REFRESH-INTERVAL;VALUE=DURATION:PT1H
X-Robots-Tag:noindex
X-PUBLISHED-TTL:PT1H
BEGIN:VTIMEZONE
TZID:Europe/Paris
BEGIN:DAYLIGHT
TZOFFSETFROM:+0100
TZOFFSETTO:+0200
TZNAME:CEST
DTSTART:20170326T010000
END:DAYLIGHT
BEGIN:STANDARD
TZOFFSETFROM:+0200
TZOFFSETTO:+0100
TZNAME:CET
DTSTART:20171029T010000
END:STANDARD
END:VTIMEZONE
BEGIN:VEVENT
DTSTART;VALUE=DATE:20170407
DTEND;VALUE=DATE:20170408
DTSTAMP:20260420T174007
CREATED:20170327T122856Z
LAST-MODIFIED:20170327T122856Z
UID:1061-1491523200-1491609599@www.nost.fr
SUMMARY:Droits de regard sur l'abattage des animaux d'élevage
DESCRIPTION:Programme \nIMPORTANT \nLes inscriptions doivent parvenir par mail à Stéphanie Bartkowiak (OMIJ\, stephanie.bartkowiak@unilim.fr\, 05 55 14 90 11 ) en indiquant les informations suivantes :\n– Nom\n– Prénom\n– Fonction\, Titre\n– Société\, Entreprise\, Université\, Autre\n– Adresse mail (valide) \nLes tarifs des inscriptions seront définitivement votés fin mars (Universitaires et étudiants : gratuit; Membres d’associations de protection des animaux : 10 €; Autres participants (professionnels) : 50 €). Ainsi les modalités financières de participation au colloque seront communiquées par mail aux inscrits après le 31 mars 2017.
URL:http://www.nost.fr/evenement/droits-de-regard-sur-labattage-des-animaux-delevage/
LOCATION:Campus Universitaire de Brive la Gaillarde\, 16 rue Jules Vallès\, Brive-la-Gaillarde\, 19100
END:VEVENT
END:VCALENDAR