BEGIN:VCALENDAR
VERSION:2.0
PRODID:-//GDR NoST - ECPv6.1.3//NONSGML v1.0//EN
CALSCALE:GREGORIAN
METHOD:PUBLISH
X-WR-CALNAME:GDR NoST
X-ORIGINAL-URL:http://www.nost.fr
X-WR-CALDESC:évènements pour GDR NoST
REFRESH-INTERVAL;VALUE=DURATION:PT1H
X-Robots-Tag:noindex
X-PUBLISHED-TTL:PT1H
BEGIN:VTIMEZONE
TZID:Europe/Paris
BEGIN:DAYLIGHT
TZOFFSETFROM:+0100
TZOFFSETTO:+0200
TZNAME:CEST
DTSTART:20170326T010000
END:DAYLIGHT
BEGIN:STANDARD
TZOFFSETFROM:+0200
TZOFFSETTO:+0100
TZNAME:CET
DTSTART:20171029T010000
END:STANDARD
END:VTIMEZONE
BEGIN:VEVENT
DTSTART;TZID=Europe/Paris:20170518T093000
DTEND;TZID=Europe/Paris:20170518T163000
DTSTAMP:20260420T161729
CREATED:20170315T113245Z
LAST-MODIFIED:20170315T113349Z
UID:1032-1495099800-1495125000@www.nost.fr
SUMMARY:Les contrats de valorisation de la recherche dans les universités
DESCRIPTION:Le jeudi 18 mai se tiendra une conférence sur « Les Contrats de Valorisation de la Recherche dans les Universités » à l’Université Grenoble-Alpes.\n\nCette conférence est organisée par les laboratoires partenaires du programme ANR CoCon qui ont étudié une cohorte de 2000 contrats de valorisation de la recherche des universités de Grenoble-Alpes et de Strasbourg.\n\nL’objectif de cette journée est de proposer un échange sur les résultats de ce programme à travers une série d’ateliers portant sur les enjeux économiques\, juridiques et stratégiques des contrats de valorisation.\n\nParticipation gratuite sur inscription (obligatoire) : https://goo.gl/forms/zCtbGT6YVkooZcyP2\n\n\nVous êtes un acteur de la valorisation de la recherche ?\nUne entreprise intéressée par la valorisation de la recherche ?\nUn juriste dans le domaine des contrats de valorisation ?\nUn chercheur souhaitant transférer ses résultats ?\nUn chargé de projets d’innovation ?\nUn service de valorisation ?\n\nCette journée est faite pour vous !\n\nProgramme provisoire.\n\nInscriptions : https://goo.gl/forms/zCtbGT6YVkooZcyP2 \n\nRenseignements : http://innovacs.univ-grenoble-alpes.fr
URL:http://www.nost.fr/evenement/les-contrats-de-valorisation-de-la-recherche-dans-les-universites/
LOCATION:Université Grenoble Alpes\, Grenoble\, France
CATEGORIES:conférence
END:VEVENT
END:VCALENDAR