BEGIN:VCALENDAR
VERSION:2.0
PRODID:-//GDR NoST - ECPv6.1.3//NONSGML v1.0//EN
CALSCALE:GREGORIAN
METHOD:PUBLISH
X-WR-CALNAME:GDR NoST
X-ORIGINAL-URL:http://www.nost.fr
X-WR-CALDESC:évènements pour GDR NoST
REFRESH-INTERVAL;VALUE=DURATION:PT1H
X-Robots-Tag:noindex
X-PUBLISHED-TTL:PT1H
BEGIN:VTIMEZONE
TZID:Europe/Paris
BEGIN:DAYLIGHT
TZOFFSETFROM:+0100
TZOFFSETTO:+0200
TZNAME:CEST
DTSTART:20170326T010000
END:DAYLIGHT
BEGIN:STANDARD
TZOFFSETFROM:+0200
TZOFFSETTO:+0100
TZNAME:CET
DTSTART:20171029T010000
END:STANDARD
END:VTIMEZONE
BEGIN:VEVENT
DTSTART;TZID=Europe/Paris:20171003T133000
DTEND;TZID=Europe/Paris:20171003T180000
DTSTAMP:20260420T094257
CREATED:20170831T131738Z
LAST-MODIFIED:20170831T131738Z
UID:1150-1507037400-1507053600@www.nost.fr
SUMMARY:L'avenir de la propriété intellectuelle
DESCRIPTION:L’Association des Jeunes Universitaires spécialisés en propriété intellectuelle (JUSPI)\, créée en 2017\, regroupe en son sein des maîtres de conférences des universités spécialisés en droit de la propriété intellectuelle. Elle a pour vocation de favoriser la recherche entre les jeunes universitaires appartenant à des structures de recherche différentes\, de fédérer des compétences en créant un réseau d’échanges\, et de valoriser les travaux de recherche en propriété intellectuelle en contribuant à la promotion académique de cette discipline\, notamment par l’organisation de rencontres (colloques\, séminaires\, journées d’études) liées aux thématiques de l’association. \nL’Association JUSPI organise ainsi le 3 octobre 2017 son premier colloque\, consacré à « L’avenir de la propriété intellectuelle ». Ses membres y présenteront le fruit de leurs réflexions\, entourés de professeurs de renom et d’universitaires étrangers. \nLe lendemain\, aura lieu la Journée de la Jeune Recherche en Propriété Intellectuelle (JJRPI) organisée par l’Institut de Recherche en Propriété Intellectuelle (IRPI)\, en association avec le CECOJI-UP\, le CUERPI\, le CEIPI\, et l’Ecole de droit et de management de Paris II. Cela part d’un double constat qui tient à la situation des jeunes chercheurs\, notamment des doctorants\, trop souvent isolés\, et\, plus généralement\, à celle de la recherche française en propriété intellectuelle\, elle-même trop souvent éclatée. Ici et là\, la nécessité de réunir et de créer des ponts entre les chercheurs et les enseignants chercheurs dans ce domaine s’impose\, ceci notamment afin de peser au niveau national\, européen et international. \nÀ partir de ces observations\, plusieurs objectifs sont poursuivis\, dont certains apparaissent communs à tous et partagés par l’association Les Jeunes Universitaires Spécialisés en Propriété Intellectuelle (Les JUSPI)\, et d’autres sont plus spécifiques aux jeunes chercheurs.
URL:http://www.nost.fr/evenement/lavenir-de-la-propriete-intellectuelle/
LOCATION:Faculté de droit\, Paris Descartes\, 10 avenue Pierre Larousse\, malakoff\, 92240\, France
CATEGORIES:colloque
END:VEVENT
END:VCALENDAR