BEGIN:VCALENDAR
VERSION:2.0
PRODID:-//GDR NoST - ECPv6.1.3//NONSGML v1.0//EN
CALSCALE:GREGORIAN
METHOD:PUBLISH
X-ORIGINAL-URL:http://www.nost.fr
X-WR-CALDESC:évènements pour GDR NoST
REFRESH-INTERVAL;VALUE=DURATION:PT1H
X-Robots-Tag:noindex
X-PUBLISHED-TTL:PT1H
BEGIN:VTIMEZONE
TZID:Europe/Paris
BEGIN:DAYLIGHT
TZOFFSETFROM:+0100
TZOFFSETTO:+0200
TZNAME:CEST
DTSTART:20170326T010000
END:DAYLIGHT
BEGIN:STANDARD
TZOFFSETFROM:+0200
TZOFFSETTO:+0100
TZNAME:CET
DTSTART:20171029T010000
END:STANDARD
END:VTIMEZONE
BEGIN:VEVENT
DTSTART;VALUE=DATE:20171208
DTEND;VALUE=DATE:20171209
DTSTAMP:20260420T083215
CREATED:20171018T084347Z
LAST-MODIFIED:20171018T084347Z
UID:1183-1512691200-1512777599@www.nost.fr
SUMMARY:Le droit des affaires pharmaceutiques : vers la caractérisation d’une lex pharmaceutica ?
DESCRIPTION:Le colloque vise à s’interroger sur les spécificités avérées ou naissantes d’un droit des affaires commun à l’ensemble du monde de l’entreprise\, lorsqu’il est en prise avec un secteur caractérisé par ses enjeux particuliers (la santé publique) et ses règlementations abondantes (notamment en France et dans l’Union européenne). Les différents droits impliqués ¬—droit commercial\, droit des sociétés\, droit des contrats\, droit de la concurrence\, droit des investissements\, voire droit de la consommation…— connaissent ainsi des adaptations\, voire des transformations plus profondes qui peuvent mettre en évidence un droit des affaires particulier\, adapté\, au domaine des produits de santé\, notamment à celui de l’industrie pharmaceutique.\nCe droit n’aurait pas pour seule origine les États ou les traités qu’ils concluent entre eux\, mais potentiellement les acteurs privés (les entreprises du secteur et leurs interlocuteurs non publics\, organismes producteurs de normes tels que l’International Council for Harmonisation of Technical Requirements for Pharmaceuticals for Human Use (ICH)\, les différentes fédérations\, etc.) : d’où l’idée de la recherche de l’existence d’une lex pharmaceutica\, d’un droit spontané né de la pratique même de ces opérateurs\, s’inscrivant dans les recherches déjà menées par le CREDIMI dans d’autres domaines (droit du sport\, droit des activités spatiales…..). Mais l’industrie pharmaceutique est-elle en mesure\, malgré les contraintes provenant d’une réglementation publique forte\, de développer son propre droit spontané des affaires (de la pratique contractuelle à la résolution des litiges\, en passant par la protection du savoir-faire) ? A travers l’étude de la production des normes\, mais aussi de la résolution des litiges (par les modes alternatifs de règlement des différends notamment)\, se dessine une voie vers une internationalisation qui pourrait s’avérer plus efficace sur le plan de la qualité\, de la sécurité et de l’accès aux traitements tout en satisfaisant les intérêts industriels des acteurs.\nCe colloque se propose de d’envisager ces questions sous l’angle des droits français et internationaux.
URL:http://www.nost.fr/evenement/le-droit-des-affaires-pharmaceutiques-vers-la-caracterisation-dune-lex-pharmaceutica/
LOCATION:Maison des Sciences de l’Homme Dijon\, 4 bd Gabriel\, 21000 DIJON\, 21000\, France
ORGANIZER;CN="":MAILTO:perrine.didi@u-bourgogne.fr
END:VEVENT
END:VCALENDAR