BEGIN:VCALENDAR
VERSION:2.0
PRODID:-//GDR NoST - ECPv6.1.3//NONSGML v1.0//EN
CALSCALE:GREGORIAN
METHOD:PUBLISH
X-ORIGINAL-URL:http://www.nost.fr
X-WR-CALDESC:évènements pour GDR NoST
REFRESH-INTERVAL;VALUE=DURATION:PT1H
X-Robots-Tag:noindex
X-PUBLISHED-TTL:PT1H
BEGIN:VTIMEZONE
TZID:Europe/Paris
BEGIN:DAYLIGHT
TZOFFSETFROM:+0100
TZOFFSETTO:+0200
TZNAME:CEST
DTSTART:20180325T010000
END:DAYLIGHT
BEGIN:STANDARD
TZOFFSETFROM:+0200
TZOFFSETTO:+0100
TZNAME:CET
DTSTART:20181028T010000
END:STANDARD
END:VTIMEZONE
BEGIN:VEVENT
DTSTART;TZID=Europe/Paris:20180118T180000
DTEND;TZID=Europe/Paris:20180118T200000
DTSTAMP:20260420T053358
CREATED:20180109T093226Z
LAST-MODIFIED:20180109T093233Z
UID:1346-1516298400-1516305600@www.nost.fr
SUMMARY:Conférence inaugurale – La bioéthique : approche pluridisciplinaire\, 18 janvier 2018\, Paris
DESCRIPTION:Dans le cadre du cycle « Droit et bioéthique » \nSous la direction scientiﬁque de\nMadame Astrid MARAIS\nMadame Bénédicte BOYER-BEVIERE\net Madame Dorothée DIBIE \nLa bioéthique s’intéresse aux questions éthiques soulevées par les progrès techno-scientiﬁques. La loi a vocation à encadrer ces progrès aﬁn de s’assurer que la science reste au service de la personne et non l’inverse. C’est dans cette optique qu’ont été adoptées les différentes lois bioéthiques en 1994. Parce que la médecine est en constante évolution\, ces lois font l’objet d’un réexamen régulier. La prochaine révision\, prévue en 2018\, sera sans doute l’occasion de combler les lacunes ou imperfections de la loi auxquelles le juge est régulièrement confronté. \nLes progrès de la médecine concernent tous les stades de la vie de la personne. Ses incidences juridiques peuvent être mesurées de la conception à la mort de la personne. \nModérateur : \nAstrid MARAIS\, professeur à l’université Paris 8 \nIntervenants : \nJean François DELFRAISSY\, président du Comité consultatif national d’éthique pour les sciences de la vie et de la santé\nFrédérique DREIFUSS-NETTER\, conseiller à la chambre criminelle de la Cour de cassation\nRené FRYDMAN\, professeur émérite à la faculté de médecine Paris-sud au Kremlin-Bicêtre \nGrand’chambre de la Cour de cassation entrée par le 5 quai de l’Horloge\, 5 quai de l’Horloge-75055 Paris cedex 01 Paris 1er \nEntrée 20 minutes avant en raison du contrôle de sécurité – Pièce d’identité obligatoire \nEntrée libre\, sur inscription préalable auprès de la Cour de cassation Télécopie : 01 44 32 78 28 Internet : www.courdecassation.fr \nManifestation validée au titre de la formation continue des magistrats et des avocats \nInscription en ligne  \nConsulter le programme du cycle « Droit et bioéthique »
URL:http://www.nost.fr/evenement/conference-inaugurale-la-bioethique-approche-pluridisciplinaire-18-jnavier-2018-paris/
LOCATION:Cour de cassation\, 5 quai de l’Horloge\, Paris\, France
CATEGORIES:conférence
END:VEVENT
END:VCALENDAR