BEGIN:VCALENDAR
VERSION:2.0
PRODID:-//GDR NoST - ECPv6.1.3//NONSGML v1.0//EN
CALSCALE:GREGORIAN
METHOD:PUBLISH
X-WR-CALNAME:GDR NoST
X-ORIGINAL-URL:http://www.nost.fr
X-WR-CALDESC:évènements pour GDR NoST
REFRESH-INTERVAL;VALUE=DURATION:PT1H
X-Robots-Tag:noindex
X-PUBLISHED-TTL:PT1H
BEGIN:VTIMEZONE
TZID:Europe/Paris
BEGIN:DAYLIGHT
TZOFFSETFROM:+0100
TZOFFSETTO:+0200
TZNAME:CEST
DTSTART:20180325T010000
END:DAYLIGHT
BEGIN:STANDARD
TZOFFSETFROM:+0200
TZOFFSETTO:+0100
TZNAME:CET
DTSTART:20181028T010000
END:STANDARD
END:VTIMEZONE
BEGIN:VEVENT
DTSTART;TZID=Europe/Paris:20180129T093000
DTEND;TZID=Europe/Paris:20180129T163000
DTSTAMP:20260420T040453
CREATED:20171208T105953Z
LAST-MODIFIED:20171208T110011Z
UID:1275-1517218200-1517243400@www.nost.fr
SUMMARY:Journée d’étude interdisciplinaire dans le cadre de l’atelier « Aliment » le 29 janvier 2018\, Nantes
DESCRIPTION:
URL:http://www.nost.fr/evenement/journee-detude-interdisciplinaire-dans-le-cadre-de-latelier-aliment-le-29-janvier-2018-nantes/
LOCATION:Faculté de droit de Nantes\, Chemin de la Censive du Tertre\, Nantes\, 44300 \, France
CATEGORIES:atelier NoST,journée d'étude
END:VEVENT
END:VCALENDAR