BEGIN:VCALENDAR
VERSION:2.0
PRODID:-//GDR NoST - ECPv6.1.3//NONSGML v1.0//EN
CALSCALE:GREGORIAN
METHOD:PUBLISH
X-ORIGINAL-URL:http://www.nost.fr
X-WR-CALDESC:évènements pour GDR NoST
REFRESH-INTERVAL;VALUE=DURATION:PT1H
X-Robots-Tag:noindex
X-PUBLISHED-TTL:PT1H
BEGIN:VTIMEZONE
TZID:Europe/Paris
BEGIN:DAYLIGHT
TZOFFSETFROM:+0100
TZOFFSETTO:+0200
TZNAME:CEST
DTSTART:20180325T010000
END:DAYLIGHT
BEGIN:STANDARD
TZOFFSETFROM:+0200
TZOFFSETTO:+0100
TZNAME:CET
DTSTART:20181028T010000
END:STANDARD
END:VTIMEZONE
BEGIN:VEVENT
DTSTART;TZID=Europe/Paris:20180306T160000
DTEND;TZID=Europe/Paris:20180306T190000
DTSTAMP:20260420T010356
CREATED:20171218T134856Z
LAST-MODIFIED:20171219T154840Z
UID:1317-1520352000-1520362800@www.nost.fr
SUMMARY:Conférence exceptionnelle d’Alondra Nelson\, 6 mars 2018\, Cachan
DESCRIPTION:Le Groupement de recherche « Normes\, Sciences et Techniques »\, l’Institut des Sciences Sociales du Politique et la Maison des Sciences de l’Homme Paris-Saclay vous invitent le 6 mars 2018\, à partir de 16h\, à l’ENS Paris-Saclay\, pour la conférence exceptionnelle d’Alondra Nelson\, présidente du « Social Science Research Council (SSRC)” et professeure de sociologie à l’Université de Columbia. \nPour en savoir plus
URL:http://www.nost.fr/evenement/conference-exceptionnelle-dalondra-nelson-6-mars-2018-cachan/
LOCATION:ENS Paris-Saclay\, 61 Avenue du Président Wilson\, Cachan\, 94230\, France
CATEGORIES:conférence
ORGANIZER;CN="St%C3%A9phanie%20Lacour":MAILTO:stephanie.lacour@cnrs.fr
END:VEVENT
END:VCALENDAR