BEGIN:VCALENDAR
VERSION:2.0
PRODID:-//GDR NoST - ECPv6.1.3//NONSGML v1.0//EN
CALSCALE:GREGORIAN
METHOD:PUBLISH
X-WR-CALNAME:GDR NoST
X-ORIGINAL-URL:http://www.nost.fr
X-WR-CALDESC:évènements pour GDR NoST
REFRESH-INTERVAL;VALUE=DURATION:PT1H
X-Robots-Tag:noindex
X-PUBLISHED-TTL:PT1H
BEGIN:VTIMEZONE
TZID:Europe/Paris
BEGIN:DAYLIGHT
TZOFFSETFROM:+0100
TZOFFSETTO:+0200
TZNAME:CEST
DTSTART:20180325T010000
END:DAYLIGHT
BEGIN:STANDARD
TZOFFSETFROM:+0200
TZOFFSETTO:+0100
TZNAME:CET
DTSTART:20181028T010000
END:STANDARD
END:VTIMEZONE
BEGIN:VEVENT
DTSTART;VALUE=DATE:20180606
DTEND;VALUE=DATE:20180609
DTSTAMP:20260419T200315
CREATED:20180305T152758Z
LAST-MODIFIED:20180305T152956Z
UID:1438-1528243200-1528502399@www.nost.fr
SUMMARY:Evidential Legal Reasoning World Congress\, 6-8th June 2018
DESCRIPTION:The Chair in Legal Culture of the University of Girona and the Spanish publishing house Marcial Pons\, which is celebrating the publication of the 100th volume of their series Filosofía y Derecho (Philosophy and Law)\, are organizing the Evidential Reasoning World Congress in June 2018. The event will bring together leading international specialists from four continents who will discuss different problems of evidential reasoning in the judicial process. One of the main attractions of the conference will be a debate presenting the different perspectives of different legal traditions and cultures around the world. The official conference languages will be Spanish and English\, with simultaneous interpretation offered between the two.
URL:http://www.nost.fr/evenement/evidential-legal-reasoning-world-congress/
LOCATION:Auditorio-Palacio de Congresos de Girona\, Universitat de Girona\, 12\, Girona\, Girona\, Espagne
CATEGORIES:conférence
END:VEVENT
END:VCALENDAR