BEGIN:VCALENDAR
VERSION:2.0
PRODID:-//GDR NoST - ECPv6.1.3//NONSGML v1.0//EN
CALSCALE:GREGORIAN
METHOD:PUBLISH
X-WR-CALNAME:GDR NoST
X-ORIGINAL-URL:http://www.nost.fr
X-WR-CALDESC:évènements pour GDR NoST
REFRESH-INTERVAL;VALUE=DURATION:PT1H
X-Robots-Tag:noindex
X-PUBLISHED-TTL:PT1H
BEGIN:VTIMEZONE
TZID:Europe/Paris
BEGIN:DAYLIGHT
TZOFFSETFROM:+0100
TZOFFSETTO:+0200
TZNAME:CEST
DTSTART:20160327T010000
END:DAYLIGHT
BEGIN:STANDARD
TZOFFSETFROM:+0200
TZOFFSETTO:+0100
TZNAME:CET
DTSTART:20161030T010000
END:STANDARD
END:VTIMEZONE
BEGIN:VEVENT
DTSTART;TZID=Europe/Paris:20161018T133000
DTEND;TZID=Europe/Paris:20161018T170000
DTSTAMP:20260421T001938
CREATED:20161024T144347Z
LAST-MODIFIED:20161024T144416Z
UID:735-1476797400-1476810000@www.nost.fr
SUMMARY:Réunion du comité de pilotage de NoST
DESCRIPTION:
URL:http://www.nost.fr/evenement/reunion-du-comite-de-pilotage-de-nost/
LOCATION:ENS Paris-Saclay\, 61 Avenue du Président Wilson\, Cachan\, 94230\, France
CATEGORIES:vie du GDR NoST
END:VEVENT
END:VCALENDAR