BEGIN:VCALENDAR
VERSION:2.0
PRODID:-//GDR NoST - ECPv6.1.3//NONSGML v1.0//EN
CALSCALE:GREGORIAN
METHOD:PUBLISH
X-WR-CALNAME:GDR NoST
X-ORIGINAL-URL:http://www.nost.fr
X-WR-CALDESC:évènements pour GDR NoST
REFRESH-INTERVAL;VALUE=DURATION:PT1H
X-Robots-Tag:noindex
X-PUBLISHED-TTL:PT1H
BEGIN:VTIMEZONE
TZID:Europe/Paris
BEGIN:DAYLIGHT
TZOFFSETFROM:+0100
TZOFFSETTO:+0200
TZNAME:CEST
DTSTART:20170326T010000
END:DAYLIGHT
BEGIN:STANDARD
TZOFFSETFROM:+0200
TZOFFSETTO:+0100
TZNAME:CET
DTSTART:20171029T010000
END:STANDARD
END:VTIMEZONE
BEGIN:VEVENT
DTSTART;VALUE=DATE:20170407
DTEND;VALUE=DATE:20170408
DTSTAMP:20260420T161722
CREATED:20170327T122856Z
LAST-MODIFIED:20170327T122856Z
UID:1061-1491523200-1491609599@www.nost.fr
SUMMARY:Droits de regard sur l'abattage des animaux d'élevage
DESCRIPTION:Programme \nIMPORTANT \nLes inscriptions doivent parvenir par mail à Stéphanie Bartkowiak (OMIJ\, stephanie.bartkowiak@unilim.fr\, 05 55 14 90 11 ) en indiquant les informations suivantes :\n– Nom\n– Prénom\n– Fonction\, Titre\n– Société\, Entreprise\, Université\, Autre\n– Adresse mail (valide) \nLes tarifs des inscriptions seront définitivement votés fin mars (Universitaires et étudiants : gratuit; Membres d’associations de protection des animaux : 10 €; Autres participants (professionnels) : 50 €). Ainsi les modalités financières de participation au colloque seront communiquées par mail aux inscrits après le 31 mars 2017.
URL:http://www.nost.fr/evenement/droits-de-regard-sur-labattage-des-animaux-delevage/
LOCATION:Campus Universitaire de Brive la Gaillarde\, 16 rue Jules Vallès\, Brive-la-Gaillarde\, 19100
END:VEVENT
BEGIN:VEVENT
DTSTART;TZID=Europe/Paris:20170413T143000
DTEND;TZID=Europe/Paris:20170414T170000
DTSTAMP:20260420T161722
CREATED:20170220T112409Z
LAST-MODIFIED:20170220T112409Z
UID:987-1492093800-1492189200@www.nost.fr
SUMMARY:Le droit français à l'aune du droit comparé : pour un droit pénal médical rénové ?
DESCRIPTION:Télécharger le programme.
URL:http://www.nost.fr/evenement/le-droit-francais-a-laune-du-droit-compare-pour-un-droit-penal-medical-renove/
LOCATION:Manufacture des Tabacs\, 21 Allée de Brienne  \, Toulouse\, 31000\, France
CATEGORIES:colloque
END:VEVENT
BEGIN:VEVENT
DTSTART;TZID=Europe/Paris:20170418T180000
DTEND;TZID=Europe/Paris:20170418T200000
DTSTAMP:20260420T161722
CREATED:20170407T140445Z
LAST-MODIFIED:20170407T140445Z
UID:1073-1492538400-1492545600@www.nost.fr
SUMMARY:Le droit du changement climatique
DESCRIPTION:Le mardi 18 avril\, l’École doctorale de droit public et de droit fiscal de l’Université Paris 1 accueille Michael Burger\, executive director du centre de recherches sur le changement climatique  de l’Université de Columbia (USA)\, pour une conférence ouverte à tous sur « Le droit du changement climatique ». \nMardi 18 avril – 18h à 20h  \nCentre Malher (9 rue Malher 75004 PARIS) – Amphithéâtre Dupuis (niveau -1)
URL:http://www.nost.fr/evenement/le-droit-du-changement-climatique/
LOCATION:Centre Malher\, 9 rue Malher\, Paris\, 75004\, France
CATEGORIES:conférence
END:VEVENT
BEGIN:VEVENT
DTSTART;TZID=Europe/Paris:20170427T140000
DTEND;TZID=Europe/Paris:20170427T180000
DTSTAMP:20260420T161722
CREATED:20170201T132441Z
LAST-MODIFIED:20170201T132441Z
UID:962-1493301600-1493316000@www.nost.fr
SUMMARY:La mobilisation du droit par les associations en matière environnementale
DESCRIPTION:Ce séminaire montrera comment le prétoire devient progressivement le lieu où les associations de défense de l’environnement et les citoyens. exercent leur droit d’action en justice en mobilisant le droit pour défendre leur cause (par exemple pour demander des responsabilités à l’Etat ou aux entreprises). Dans ce sens\, l’action de groupe\, instaurée par la loi du 17 mars 2014 en matière de consommation\, et dans laquelle le domaine de la santé et de l’environnement étaient jusqu’ici exclus\, présente un levier d’action important. Ces dernières réformes ouvrent des perspectives sur lesquelles nous réfléchirons collectivement. \nLe cycle de séminaires « Mobilisations du droit\, Société civile et environnement »\, coordonnés par Christel Cournil  et Marta Torre-Schaub a pour objectif de favoriser les rencontres entre membres de la société civile et des universitaires (juristes\, politistes et sociologues) autour de la mobilisation du droit par les ONG\, sous l’aspect des pratiques juridictionnelles et dans une dynamique plus générale de « fabrique » du droit. Les séminaires seront pluridisciplinaires. L’apport d’autres sciences (humaines et sociales) dans cette démarche de réflexions sera enrichissant et nourrira le raisonnement juridique. Les pratiques sociales et militantes inspirées par la mobilisation du droit ainsi restituées\, engageront une circulation de savoirs entre « acteurs » de la société civile et de la recherche. Ces séminaires constitueront un espace de réflexion collective visant à engager un dialogue croisé alimentant tant les réflexions de la doctrine juridique que les répertoires d’action de la société civile et les activités des praticiens du droit (avocats et magistrats). Ce cycle de séminaire s’inscrit dans le cadre du projet GIP Justice portant sur Les dynamiques du contentieux climatique : usages et mobilisation du droit face à la cause climatique.
URL:http://www.nost.fr/evenement/la-mobilisation-du-droit-par-les-associations-en-matiere-environnementale/
LOCATION:EHESS\, 105 boulevard Raspail\, Paris\, 75006
CATEGORIES:séminaire
END:VEVENT
BEGIN:VEVENT
DTSTART;VALUE=DATE:20170428
DTEND;VALUE=DATE:20170429
DTSTAMP:20260420T161722
CREATED:20170131T134256Z
LAST-MODIFIED:20170131T134256Z
UID:956-1493337600-1493423999@www.nost.fr
SUMMARY:Le cadre juridique applicable aux traitements de données à caractère personnel
DESCRIPTION:Le CERAPS (UMR 8026) et l’Université de Lille organisent dans le cadre d’un projet de recherche ANR (« APPEL ») une journée d’étude sur la protection et le traitement des données à caractère personnel. Ce sujet s’inscrit dans une actualité importante\, avec la récente loi pour une république numérique du 7 octobre 2016 et l’entrée en application prochaine\, le 25 mai 2018\, du nouveau règlement européen 2016/679 relatif à la protection des personnes physiques à l’égard du traitement des données à caractère personnel et à la libre circulation de ces données.
URL:http://www.nost.fr/evenement/le-cadre-juridique-applicable-aux-traitements-de-donnees-a-caractere-personnel/
LOCATION:Université Lille 2\, 1 place Déliot\, Lille\, 59000
CATEGORIES:journée d'étude
END:VEVENT
END:VCALENDAR