BEGIN:VCALENDAR
VERSION:2.0
PRODID:-//GDR NoST - ECPv6.1.3//NONSGML v1.0//EN
CALSCALE:GREGORIAN
METHOD:PUBLISH
X-ORIGINAL-URL:http://www.nost.fr
X-WR-CALDESC:évènements pour GDR NoST
REFRESH-INTERVAL;VALUE=DURATION:PT1H
X-Robots-Tag:noindex
X-PUBLISHED-TTL:PT1H
BEGIN:VTIMEZONE
TZID:Europe/Paris
BEGIN:DAYLIGHT
TZOFFSETFROM:+0100
TZOFFSETTO:+0200
TZNAME:CEST
DTSTART:20170326T010000
END:DAYLIGHT
BEGIN:STANDARD
TZOFFSETFROM:+0200
TZOFFSETTO:+0100
TZNAME:CET
DTSTART:20171029T010000
END:STANDARD
END:VTIMEZONE
BEGIN:VEVENT
DTSTART;VALUE=DATE:20171107
DTEND;VALUE=DATE:20171109
DTSTAMP:20260420T070642
CREATED:20171018T084929Z
LAST-MODIFIED:20171031T145641Z
UID:1188-1510012800-1510185599@www.nost.fr
SUMMARY:Les salles de consommation de drogue à moindre risque. Regards croisés sur une expérimentation
DESCRIPTION:Les salles de consommation dont l’expérimentation\, autorisée par une loi du 26 janvier 2016\, a commencé avec l’ouverture d’espaces\, à Paris et Strasbourg\, à l’automne 2016 participent de l’approfondissement de la politique de réduction des risques en matière de drogues.\nCe nouveau dispositif qui s’articule difficilement avec le modèle prohibitionniste toujours prégnant pose de nombreux problèmes en même temps qu’il permet de jeter sur des questions transversales (rapport entre vulnérabilité et autonomie du sujet\, internormativité…) un nouvel éclairage.\nC’est dans cette double perspective\, sur et à partir des salles de consommation\, que le colloque est construit\, mêlant les analyses de différents champs du savoir : médecine\, psychologie\, sociologie\, philosophie et droit.
URL:http://www.nost.fr/evenement/les-salles-de-consommation-de-drogue-a-moindre-risque-regards-croises-sur-une-experimentation/
LOCATION:Faculté de Droit et de Science politique de Rennes\,  9 rue Jean Macé\, Rennes\, France
ORGANIZER;CN="ROUSVOAL%20Laurent":MAILTO:laurent.rousvoal@univ-rennes1.fr 
END:VEVENT
BEGIN:VEVENT
DTSTART;TZID=Europe/Paris:20171124T083000
DTEND;TZID=Europe/Paris:20171124T183000
DTSTAMP:20260420T070642
CREATED:20171117T115809Z
LAST-MODIFIED:20171117T115809Z
UID:1218-1511512200-1511548200@www.nost.fr
SUMMARY:Quelle(s) politique(s) de l’énergie en Europe pour quel modèle de société ?
DESCRIPTION:L’association EUROPA organise le vendredi 24 novembre 2017 à Limoges\, dans l’enceinte de la Maison de la Région du Conseil Régional Nouvelle-Aquitaine\, un colloque sur le thème : \n« Quelle(s) politique(s) de l’énergie en Europe pour quel modèle de société ? » \nIl constitue la 21ème édition des Entretiens universitaires réguliers sur l’administration en Europe\, qu’EUROPA a initiés depuis 1997\, et a pour ambition d’examiner la question des politiques de l’énergie en Europe à la lumière des trois défis majeurs : celui de l’environnement et du changement climatique ; celui de la territorialisation des politiques publiques et plus particulièrement du rôle des territoire dans la définition et la mise en œuvre des politiques de l’énergie ; et enfin celui de la lutte contre la pauvreté et la précarité énergétique. \nLe colloque EUROPA débutera par une mise en perspective des enjeux sociétaux actuels\, auxquels sont confrontés les pouvoirs publics\, régionaux\, nationaux et européens\, dans l’élaboration de leurs politiques de l’énergie\, et particulièrement du défi environnemental : les dérèglements climatiques imputables aux activités humaines et à l’utilisation massive\, depuis le 19ème siècle\, d’énergies fossiles\, nous placent aujourd’hui devant l’obligation de faire évoluer notre modèle énergétique. Mais le défi environnemental doit être lui-même apprécié à la lumière d’un certain nombre de ruptures déjà à l’œuvre : la baisse tendancielle de la consommation d’énergie dans les sociétés industrialisées\, l’amélioration de l’efficacité énergétique des bâtiments nouvellement construits\, les progrès réalisés quant au coût et au rendement des énergies renouvelables\, la tendance de fond de nos sociétés à économiser l’énergie plus qu’à en augmenter la production… \nAu-delà de cette mise en perspective des différents enjeux et transformations sociétaux liés à l’énergie\, le rapport introductif s’attachera à montrer que\, dans un moment marqué par l’effacement des Etats-Unis sur les questions environnementales\, il appartient à l’Europe de tenir le premier rôle en matière de lutte contre le réchauffement climatique\, en définissant une politique de l’énergie qui tiennent compte de ces transformation\, en opérant une véritable transition énergétique\, afin de faire émerger un modèle de société plus durable\, plus respectueux des équilibres et territoriaux et plus équitable. \nC’est pourquoi les réflexions et les échanges qui alimenteront le colloque EUROPA 2017 s’articuleront donc autour de trois table-rondes suivantes : \nTable ronde n°1 : Une politique européenne de l’énergie pour une société plus durable\nTable ronde n°2 : Une politique européenne de l’énergie pour une société plus décentralisée\nTable ronde n°3 : Une politique européenne de l’énergie pour une société plus équitable \nPour répondre à ces questions EUROPA a sollicité économistes\, sociologues\, responsables politiques\, juristes\, ainsi que les experts européens de son réseau. \nPar ailleurs\, le colloque EUROPA sera\, cette année encore\, organisé dans le cadre des travaux de l’Intergroupe du Parlement Européen « Services Publics et biens communs » présidé par le député européen Jean-Paul DENANOT\, présent pour l’occasion\, et qui consacrera une réunion thématique à cette question inscrite à sa feuille de route.\nLe thème du colloque proposé par EUROPA\, dépasse la seule question des politiques de l’énergie : comme le titre de cette manifestation l’indique\, c’est bien à une réflexion sur un autre modèle de société à laquelle nous invitent les organisateurs\, une société plus respectueuse de son environnement\, plus confiante dans la force de ses territoires\, plus solidaire à l’égard de ses membres\, et notamment ceux qui sont en situation de fragilité. \nCe colloque placé sous le patronage de M. Thorbjorn JAGLAND\, Secrétaire général du Conseil de l’Europe\, est soutenu notamment par la Région Nouvelle Aquitaine\, la Communauté d’agglomération Limoges Métropole\, l’Université de Limoges\, le Centre National de la Fonction Publique Territoriale (CNFPT)\, l’ADEME et le groupe Caisse des Dépôts. \nLes tables-rondes seront animées par Christophe BONNOTTE\, Secrétaire général d’EUROPA ; les débats et échanges seront quant à eux animés par Isabelle BIZE\, Société INTERVISTA. \nEn outre\, il est à noter que\, comme l’an passé\, les principaux acteurs économiques et industriels du secteur de l’énergie\, réunis au sein d’un club des partenaires du colloque EUROPA 2017\, soutiennent activement l’initiative prise par cette ONG. \nPour en savoir plus\, téléchargez le programme ainsi que la problématique du colloque EUROPA 2017. \nConditions d’inscription :\nL’accès à ce colloque est gratuit. Pour y participer\, il suffit de vous inscrire en ligne ou de télécharger le bulletin d’inscription.
URL:http://www.nost.fr/evenement/quelles-politiques-de-lenergie-en-europe-pour-quel-modele-de-societe/
LOCATION:Maison de la Région du Conseil Régional Nouvelle-Aquitaine\, 27 bd de la Corderie\, Limoges\, 87000\, France
CATEGORIES:colloque
ORGANIZER;CN="Europa":MAILTO: europa@unilim.fr
END:VEVENT
BEGIN:VEVENT
DTSTART;TZID=Europe/Paris:20171130T083000
DTEND;TZID=Europe/Paris:20171130T163000
DTSTAMP:20260420T070642
CREATED:20171031T150146Z
LAST-MODIFIED:20171031T150146Z
UID:1203-1512030600-1512059400@www.nost.fr
SUMMARY:Rencontres sciences et société de l'Université de Lyon
DESCRIPTION:Parce que les communautés de recherche intéressées par les relations entre sciences et société au sein de l’Université de Lyon ne se connaissent et n’interagissent pas suffisamment\, des chercheurs et chercheuses ont pris l’initiative d’organiser des « Rencontres Sciences et société de l’Université de Lyon ». \nLe but de cette rencontre est de permettre aux enseignants-chercheurs\, chercheurs et chercheuses\, doctorant.e.s qui travaillent au sein des laboratoires de recherche de l’Université de Lyon d’exposer leurs recherches\, de discuter de leurs orientations méthodologiques\, de découvrir la variété de leurs productions scientifiques\, de faire connaître leurs projets. Nous sommes convaincus que de telles rencontres permettront une meilleure connaissance des recherches en cours au sein de l’Université de Lyon\, et favoriseront des synergies et des coopérations nouvelles dans les domaines de la recherche et de l’enseignement. \nLes rencontres sont centrées sur les relations entre sciences et société. Cet objet de recherche mérite d’être précisé\, tant il est polymorphe et tant il est investi par des projets académiques et politiques variés. Les travaux visés sont ceux qui portent sur les façons dont\nles savoirs scientifiques sont élaborés\, circulent\, sont mobilisés et critiqués en société. De nombreuses disciplines des sciences sociales contribuent à ces analyses\, à partir d’outillages méthodologiques et conceptuels variés (sociologie\, droit\, science politique\,\nhistoire\, géographie\, économie\, linguistique\, etc.). \nConsulter le programme [PDF]
URL:http://www.nost.fr/evenement/rencontres-sciences-et-societe-de-luniversite-de-lyon/
LOCATION:Université de Lyon\, 92 rue Pasteur\, Lyon\, 69007\, France
CATEGORIES:journée d'étude
ORGANIZER;CN="":MAILTO:rencontres-sciences-societe@univ-st-etienne.fr
END:VEVENT
END:VCALENDAR