BEGIN:VCALENDAR
VERSION:2.0
PRODID:-//GDR NoST - ECPv6.1.3//NONSGML v1.0//EN
CALSCALE:GREGORIAN
METHOD:PUBLISH
X-WR-CALNAME:GDR NoST
X-ORIGINAL-URL:http://www.nost.fr
X-WR-CALDESC:évènements pour GDR NoST
REFRESH-INTERVAL;VALUE=DURATION:PT1H
X-Robots-Tag:noindex
X-PUBLISHED-TTL:PT1H
BEGIN:VTIMEZONE
TZID:Europe/Paris
BEGIN:DAYLIGHT
TZOFFSETFROM:+0100
TZOFFSETTO:+0200
TZNAME:CEST
DTSTART:20180325T010000
END:DAYLIGHT
BEGIN:STANDARD
TZOFFSETFROM:+0200
TZOFFSETTO:+0100
TZNAME:CET
DTSTART:20181028T010000
END:STANDARD
END:VTIMEZONE
BEGIN:VEVENT
DTSTART;TZID=Europe/Paris:20180208T090000
DTEND;TZID=Europe/Paris:20180208T170000
DTSTAMP:20260420T010103
CREATED:20171218T134034Z
LAST-MODIFIED:20171218T134708Z
UID:1305-1518080400-1518109200@www.nost.fr
SUMMARY:Journées de droit de la propriété intellectuelle : Accords de technologie\, 8 février 2018\, Genève
DESCRIPTION:Dans le cadre des Journées de droit de la propriété intellectuelle\, l’université de Genève organise le 8 février 2018 une conférence sur les accords de technologie. Elle a pour objectif d’informer sur les développements récents et les enjeux actuels et futurs du droit de la propriété intellectuelle dans une perspective internationale\, européenne et suisse \nConsulter le programme \nInscription en ligne jusqu’au 1er février 2018 \nLa conférence aura lieu à l’Université de Genève.
URL:http://www.nost.fr/evenement/journees-de-droit-de-la-propriete-intellectuelle-accords-de-technologie-8-fevrier-2018-geneve/
LOCATION:Université de Genève\, Salle MR080\, Université de Genève – Uni mail Bd du Pont d'Arve\, Genève\,  1211\, Suisse
CATEGORIES:journée d'étude
END:VEVENT
END:VCALENDAR