BEGIN:VCALENDAR
VERSION:2.0
PRODID:-//GDR NoST - ECPv6.1.3//NONSGML v1.0//EN
CALSCALE:GREGORIAN
METHOD:PUBLISH
X-ORIGINAL-URL:http://www.nost.fr
X-WR-CALDESC:évènements pour GDR NoST
REFRESH-INTERVAL;VALUE=DURATION:PT1H
X-Robots-Tag:noindex
X-PUBLISHED-TTL:PT1H
BEGIN:VTIMEZONE
TZID:Europe/Paris
BEGIN:DAYLIGHT
TZOFFSETFROM:+0100
TZOFFSETTO:+0200
TZNAME:CEST
DTSTART:20180325T010000
END:DAYLIGHT
BEGIN:STANDARD
TZOFFSETFROM:+0200
TZOFFSETTO:+0100
TZNAME:CET
DTSTART:20181028T010000
END:STANDARD
END:VTIMEZONE
BEGIN:VEVENT
DTSTART;TZID=Europe/Paris:20180524T090000
DTEND;TZID=Europe/Paris:20180525T180000
DTSTAMP:20260419T200637
CREATED:20180509T083249Z
LAST-MODIFIED:20180509T083249Z
UID:1486-1527152400-1527271200@www.nost.fr
SUMMARY:De la procréation médicalement assistée élargie à la procréation améliorée. Vers l'ébranlement de certains interdits ?\, 24 et 25 mai 2018
DESCRIPTION:A la veille de la troisième réforme programmée du droit de la bioéthique\, les principales revendications autour de la procréation et de son renouvellement sont doubles.\nLa première revendication\, la plus médiatisée\, est celle d’un droit à l’enfant par l’élargissement de l’accès à l’assistance médicale à la procréation aux couples de femmes et aux femmes seules ou encore par la légalisation de ce qu’on appelle communément « la gestation pour autrui ».\nLa seconde revendication\, qui est moins connue du grand public et des médias mais qui est peut-être plus fondamentale pour l’avenir de l’Homme\, est celle d’un droit à un enfant en bonne santé et peut-être d’un droit à un enfant transformé en utilisant les progrès médicaux et les nouvelles techniques génétiques.\nEn effet\, indépendamment de la généralisation des examens génétiques préconceptionnels pour certaines mutations génétiques\, des techniques vont révolutionner les méthodes procréatives. Ainsi la méthode Crispr-Cas9 qui permettra\, si le législateur le souhaite\, de créer des embryons transgéniques et donc à terme des « Hommes transgéniques ». De même\, pourrait être introduite dans le droit français\, ce qu’on appelle communément la « Fiv à trois parents » laquelle méthode est d’ores et déjà autorisée en Grande-Bretagne.\nLa tenue d’un colloque sur le renouvellement de la procréation à travers ces deux revendications et leurs interrogations autour de l’intérêt de l’enfant permettra de nourrir la réflexion sur les mutations juridiques sollicitées tant en droit de la bioéthique que corrélativement en droit de la filiation.\nLes interdits actuels\, dont la plupart sont les piliers fondateurs du droit de la bioéthique\, socle de notre organisation sociétale\, vont-ils être simplement ébranlés\, remodelés ou seront-ils détruits ? Cette réflexion sera guidée au-delà des aspects juridiques\, de droit français\, de droit comparé et de droit européen\, par les apports d’autres disciplines que sont la génétique\, la médecine\, la biologie\, la science politique\, la sociologie\, l’éthique et la sémiotique juridique.\nL’Université de Lille\, à l’occasion de cet événement scientifique pluridisciplinaire\, inscrit dans les Etats Généraux de la Bioéthique\, aura l’honneur d’accueillir trois personnalités marquantes de par leur participation aux débats actuels sur le renouvellement de la procréation : le biologiste\, Jacques Testart\, qui est l’un des pères du « bébé éprouvette »\, le professeur de gynécologie obstétrique\, Israël Nisand ainsi que la sénatrice belge et membre du Conseil de l’Europe\, Petra De Sutter.
URL:http://www.nost.fr/evenement/de-la-procreation-medicalement-assistee-elargie-a-la-procreation-amelioree-vers-lebranlement-de-certains-interdits-24-et-25-mai-2018/
LOCATION:Faculté de droit de l’Université de Lille (amphi Cassin)\, 1\, Place Déliot\, Lille\, 59024\, France
CATEGORIES:colloque
ORGANIZER;CN="Bereng%C3%A8re%20Legros":MAILTO:berengere.legros@univ-lille2.fr
END:VEVENT
BEGIN:VEVENT
DTSTART;TZID=Europe/Paris:20180525T133000
DTEND;TZID=Europe/Paris:20180525T180000
DTSTAMP:20260419T200637
CREATED:20171219T154544Z
LAST-MODIFIED:20171219T154907Z
UID:1327-1527255000-1527271200@www.nost.fr
SUMMARY:Le bien-être : regards croisés\, 25 mai 2018
DESCRIPTION:La Société Française de Psychologie Juridique organisera\, en mai et juin 2018\, deux journées d’étude sur le bien-être.\nChacune de ces journées d’étude sera divisée en deux parties. La première partie regroupera les conférences. Tous les angles d’analyse pourront être envisagés (psychologique\, juridique\, médical\, philosophique…). La seconde partie prendra la forme d’une table ronde\, qui privilégiera le point de vue des praticiens (professionnels du droit\, de la psychologie\, de la médecine\, du management\, du développement personnel…).
URL:http://www.nost.fr/evenement/le-bien-etre-regards-croises-25-mai-2018/
LOCATION:Université Paris-Sud – Faculté Jean Monnet\, 54 boulevard Desgranges\, Sceaux\, 92330\, France
CATEGORIES:journée d'étude
END:VEVENT
END:VCALENDAR