BEGIN:VCALENDAR
VERSION:2.0
PRODID:-//GDR NoST - ECPv6.1.3//NONSGML v1.0//EN
CALSCALE:GREGORIAN
METHOD:PUBLISH
X-WR-CALNAME:GDR NoST
X-ORIGINAL-URL:http://www.nost.fr
X-WR-CALDESC:évènements pour GDR NoST
REFRESH-INTERVAL;VALUE=DURATION:PT1H
X-Robots-Tag:noindex
X-PUBLISHED-TTL:PT1H
BEGIN:VTIMEZONE
TZID:Europe/Paris
BEGIN:DAYLIGHT
TZOFFSETFROM:+0100
TZOFFSETTO:+0200
TZNAME:CEST
DTSTART:20180325T010000
END:DAYLIGHT
BEGIN:STANDARD
TZOFFSETFROM:+0200
TZOFFSETTO:+0100
TZNAME:CET
DTSTART:20181028T010000
END:STANDARD
END:VTIMEZONE
BEGIN:VEVENT
DTSTART;VALUE=DATE:20180606
DTEND;VALUE=DATE:20180609
DTSTAMP:20260419T182536
CREATED:20180305T152758Z
LAST-MODIFIED:20180305T152956Z
UID:1438-1528243200-1528502399@www.nost.fr
SUMMARY:Evidential Legal Reasoning World Congress\, 6-8th June 2018
DESCRIPTION:The Chair in Legal Culture of the University of Girona and the Spanish publishing house Marcial Pons\, which is celebrating the publication of the 100th volume of their series Filosofía y Derecho (Philosophy and Law)\, are organizing the Evidential Reasoning World Congress in June 2018. The event will bring together leading international specialists from four continents who will discuss different problems of evidential reasoning in the judicial process. One of the main attractions of the conference will be a debate presenting the different perspectives of different legal traditions and cultures around the world. The official conference languages will be Spanish and English\, with simultaneous interpretation offered between the two.
URL:http://www.nost.fr/evenement/evidential-legal-reasoning-world-congress/
LOCATION:Auditorio-Palacio de Congresos de Girona\, Universitat de Girona\, 12\, Girona\, Girona\, Espagne
CATEGORIES:conférence
END:VEVENT
BEGIN:VEVENT
DTSTART;TZID=Europe/Paris:20180615T090000
DTEND;TZID=Europe/Paris:20180615T173000
DTSTAMP:20260419T182536
CREATED:20180509T085537Z
LAST-MODIFIED:20180509T085537Z
UID:1497-1529053200-1529083800@www.nost.fr
SUMMARY:La personne transformée\, 15 juin 2018\, Lyon
DESCRIPTION:Le laboratoire de Recherche sur la Personne de la Faculté de Droit\, Sciences Economiques et Sociales\, de l’Université Catholique de Lyon organise le vendredi 15 juin sur le campus Saint-Paul le colloque international sur « La personne transformée ». Cette manifestation se déroulera dans l’amphithéâtre Suzanne Aubert de 9h00 à 17h30.
URL:http://www.nost.fr/evenement/la-personne-transformee-15-juin-2018-lyon/
LOCATION:université catholique de Lyon\, 10 place des archives\, Lyon\, France
CATEGORIES:colloque
END:VEVENT
BEGIN:VEVENT
DTSTART;TZID=Europe/Paris:20180622T133000
DTEND;TZID=Europe/Paris:20180622T180000
DTSTAMP:20260419T182536
CREATED:20171219T154636Z
LAST-MODIFIED:20171219T154833Z
UID:1330-1529674200-1529690400@www.nost.fr
SUMMARY:Bien-être et vie professionnelle\, 22 juin 2018
DESCRIPTION:La Société Française de Psychologie Juridique organisera\, en mai et juin 2018\, deux journées d’étude sur le bien-être.\nChacune de ces journées d’étude sera divisée en deux parties. La première partie regroupera les conférences. Tous les angles d’analyse pourront être envisagés (psychologique\, juridique\, médical\, philosophique…). La seconde partie prendra la forme d’une table ronde\, qui privilégiera le point de vue des praticiens (professionnels du droit\, de la psychologie\, de la médecine\, du management\, du développement personnel…).
URL:http://www.nost.fr/evenement/bien-etre-et-vie-professionnelle-22-juin/
LOCATION:Université Paris-Sud – Faculté Jean Monnet\, 54 boulevard Desgranges\, Sceaux\, 92330\, France
CATEGORIES:journée d'étude
END:VEVENT
END:VCALENDAR